BEGIN:VCALENDAR
VERSION:2.0
PRODID:-//Gurdwara Sahib Woolwich - ECPv6.15.20//NONSGML v1.0//EN
CALSCALE:GREGORIAN
METHOD:PUBLISH
X-WR-CALNAME:Gurdwara Sahib Woolwich
X-ORIGINAL-URL:https://www.gurdwarasahibwoolwich.org.uk
X-WR-CALDESC:Events for Gurdwara Sahib Woolwich
REFRESH-INTERVAL;VALUE=DURATION:PT1H
X-Robots-Tag:noindex
X-PUBLISHED-TTL:PT1H
BEGIN:VTIMEZONE
TZID:Europe/London
BEGIN:DAYLIGHT
TZOFFSETFROM:+0000
TZOFFSETTO:+0100
TZNAME:BST
DTSTART:20240331T010000
END:DAYLIGHT
BEGIN:STANDARD
TZOFFSETFROM:+0100
TZOFFSETTO:+0000
TZNAME:GMT
DTSTART:20241027T010000
END:STANDARD
BEGIN:DAYLIGHT
TZOFFSETFROM:+0000
TZOFFSETTO:+0100
TZNAME:BST
DTSTART:20250330T010000
END:DAYLIGHT
BEGIN:STANDARD
TZOFFSETFROM:+0100
TZOFFSETTO:+0000
TZNAME:GMT
DTSTART:20251026T010000
END:STANDARD
BEGIN:DAYLIGHT
TZOFFSETFROM:+0000
TZOFFSETTO:+0100
TZNAME:BST
DTSTART:20260329T010000
END:DAYLIGHT
BEGIN:STANDARD
TZOFFSETFROM:+0100
TZOFFSETTO:+0000
TZNAME:GMT
DTSTART:20261025T010000
END:STANDARD
END:VTIMEZONE
BEGIN:VEVENT
DTSTART;TZID=Europe/London:20250201T090000
DTEND;TZID=Europe/London:20250201T120000
DTSTAMP:20260421T104127
CREATED:20250126T095301Z
LAST-MODIFIED:20250126T115253Z
UID:174-1738400400-1738411200@www.gurdwarasahibwoolwich.org.uk
SUMMARY:Sukhmani Sahib - Mann Family
DESCRIPTION:Booked by the Mann Family.
URL:https://www.gurdwarasahibwoolwich.org.uk/gsw-event/sukhmani-sahib/
LOCATION:Gurdwara Sahib Woolwich\, 1 Calderwood Street\, London\, SE18 6QW\, United Kingdom
CATEGORIES:Gurdwara Sahib Woolwich Event
END:VEVENT
BEGIN:VEVENT
DTSTART;TZID=Europe/London:20250201T143000
DTEND;TZID=Europe/London:20250201T151500
DTSTAMP:20260421T104127
CREATED:20260106T085004Z
LAST-MODIFIED:20260106T085004Z
UID:2185-1738420200-1738422900@www.gurdwarasahibwoolwich.org.uk
SUMMARY:Gurdwara Sahib Woolwich Yoga Classes
DESCRIPTION:Gurdwara Sahib Woolwich Yoga Classes
URL:https://www.gurdwarasahibwoolwich.org.uk/gsw-event/gurdwara-sahib-woolwich-yoga-classes-27/
LOCATION:Gurdwara Sahib Woolwich\, 1 Calderwood Street\, London\, SE18 6QW\, United Kingdom
CATEGORIES:Gurdwara Sahib Woolwich Event
ATTACH;FMTTYPE=image/jpeg:https://www.gurdwarasahibwoolwich.org.uk/wp-content/uploads/2025/08/GSW-Yoga-202508.jpg
END:VEVENT
BEGIN:VEVENT
DTSTART;TZID=Europe/London:20250202T103000
DTEND;TZID=Europe/London:20250202T111500
DTSTAMP:20260421T104127
CREATED:20260106T085005Z
LAST-MODIFIED:20260106T085005Z
UID:2186-1738492200-1738494900@www.gurdwarasahibwoolwich.org.uk
SUMMARY:Gurdwara Sahib Woolwich Yoga Classes
DESCRIPTION:Gurdwara Sahib Woolwich Yoga Classes
URL:https://www.gurdwarasahibwoolwich.org.uk/gsw-event/gurdwara-sahib-woolwich-yoga-classes-28/
LOCATION:Gurdwara Sahib Woolwich\, 1 Calderwood Street\, London\, SE18 6QW\, United Kingdom
CATEGORIES:Gurdwara Sahib Woolwich Event
ATTACH;FMTTYPE=image/jpeg:https://www.gurdwarasahibwoolwich.org.uk/wp-content/uploads/2025/08/GSW-Yoga-202508.jpg
END:VEVENT
BEGIN:VEVENT
DTSTART;TZID=Europe/London:20250212T090000
DTEND;TZID=Europe/London:20250212T093000
DTSTAMP:20260421T104127
CREATED:20250126T130943Z
LAST-MODIFIED:20250126T130943Z
UID:207-1739350800-1739352600@www.gurdwarasahibwoolwich.org.uk
SUMMARY:Sangrand - Sehaj Path
DESCRIPTION:Sangrand – Sehaj Path
URL:https://www.gurdwarasahibwoolwich.org.uk/gsw-event/sangrand-sehaj-path-2/
LOCATION:Gurdwara Sahib Woolwich\, 1 Calderwood Street\, London\, SE18 6QW\, United Kingdom
CATEGORIES:Gurdwara Sahib Woolwich Event
END:VEVENT
BEGIN:VEVENT
DTSTART;TZID=Europe/London:20250212T100000
DTEND;TZID=Europe/London:20250212T120000
DTSTAMP:20260421T104127
CREATED:20250126T130943Z
LAST-MODIFIED:20250126T130943Z
UID:208-1739354400-1739361600@www.gurdwarasahibwoolwich.org.uk
SUMMARY:Sangrand - Kirtan Diwan
DESCRIPTION:Sangrand – Kirtan Diwan
URL:https://www.gurdwarasahibwoolwich.org.uk/gsw-event/sangrand-kirtan-diwan-2/
LOCATION:Gurdwara Sahib Woolwich\, 1 Calderwood Street\, London\, SE18 6QW\, United Kingdom
CATEGORIES:Gurdwara Sahib Woolwich Event
END:VEVENT
BEGIN:VEVENT
DTSTART;TZID=Europe/London:20250214T180000
DTEND;TZID=Europe/London:20250214T203000
DTSTAMP:20260421T104127
CREATED:20250212T174123Z
LAST-MODIFIED:20250212T174425Z
UID:572-1739556000-1739565000@www.gurdwarasahibwoolwich.org.uk
SUMMARY:Monthly Naam Simran - Meditate Followed by Langar
DESCRIPTION:Seva Simran Sadhsangat. \nMonthly Naam Simran – Meditate Followed by Langar @ 6pm. \n“The remembrance of God is the highest and most exalted of all acts“ \nAng 263\, Sri Guru Granth Sahib Ji.
URL:https://www.gurdwarasahibwoolwich.org.uk/gsw-event/monthly-naam-simran-meditate-followed-by-langar/
LOCATION:Gurdwara Sahib Woolwich\, 1 Calderwood Street\, London\, SE18 6QW\, United Kingdom
CATEGORIES:Gurdwara Sahib Woolwich Event
END:VEVENT
BEGIN:VEVENT
DTSTART;TZID=Europe/London:20250216T150000
DTEND;TZID=Europe/London:20250216T170000
DTSTAMP:20260421T104127
CREATED:20250203T211903Z
LAST-MODIFIED:20250217T073210Z
UID:481-1739718000-1739725200@www.gurdwarasahibwoolwich.org.uk
SUMMARY:Chaa & Chat (Moved to Sunday @ 3pm)
DESCRIPTION:The following group link is for any attendees and interested parties in the series or subject matter discussed in last weekend’s Chaa & Chat session @ Gurdwara Sahib Woolwich\, and new participants will be added to the group as the year progresses. \nEither we will end up with sangat members who want to learn more about mental health\, or sangat who really like Chaa 😁 \nPlease follow the link to join: \n \n \nHere is the recorded version:
URL:https://www.gurdwarasahibwoolwich.org.uk/gsw-event/481/
LOCATION:Gurdwara Sahib Woolwich\, 1 Calderwood Street\, London\, SE18 6QW\, United Kingdom
CATEGORIES:Gurdwara Sahib Woolwich Event
END:VEVENT
BEGIN:VEVENT
DTSTART;TZID=Europe/London:20250222T180000
DTEND;TZID=Europe/London:20250222T203000
DTSTAMP:20260421T104127
CREATED:20250216T211449Z
LAST-MODIFIED:20250216T213108Z
UID:618-1740247200-1740256200@www.gurdwarasahibwoolwich.org.uk
SUMMARY:Katha & Kirtan: Barah Maha Manjh
DESCRIPTION:📢 New Monthly Katha Series 📢\nAre you feeling lost or unsure in life?\nJoin us as we embark on this journey with monthly guidance from Barah Maha Manjh\, written by Guru Arjan Dev Ji. Let’s find clarity on our purpose in life together\, and try to connect with and experience Waheguru in this lifetime. \n📍 Gurdwara Sahib Woolwich (Calderwood Street)\n🗓 Feb 22nd\n⏰ 6-8:30 pm: Divan will start at 6 pm with Rehras sahib followed by Aarti\, Kirtan\, Katha\, Hukamnama Sahib\, and Samapti \n💡 Don’t miss the opportunity to learn\, connect\, and progress in your spiritual journey. \nChips & beans will be served for langar 😋
URL:https://www.gurdwarasahibwoolwich.org.uk/gsw-event/katha-kirtan-barah-maha-maanjh/
LOCATION:Gurdwara Sahib Woolwich\, 1 Calderwood Street\, London\, SE18 6QW\, United Kingdom
CATEGORIES:Gurdwara Sahib Woolwich Event
END:VEVENT
END:VCALENDAR