BEGIN:VCALENDAR
VERSION:2.0
PRODID:-//Gurdwara Sahib Woolwich - ECPv6.15.20//NONSGML v1.0//EN
CALSCALE:GREGORIAN
METHOD:PUBLISH
X-WR-CALNAME:Gurdwara Sahib Woolwich
X-ORIGINAL-URL:https://www.gurdwarasahibwoolwich.org.uk
X-WR-CALDESC:Events for Gurdwara Sahib Woolwich
REFRESH-INTERVAL;VALUE=DURATION:PT1H
X-Robots-Tag:noindex
X-PUBLISHED-TTL:PT1H
BEGIN:VTIMEZONE
TZID:Europe/London
BEGIN:DAYLIGHT
TZOFFSETFROM:+0000
TZOFFSETTO:+0100
TZNAME:BST
DTSTART:20240331T010000
END:DAYLIGHT
BEGIN:STANDARD
TZOFFSETFROM:+0100
TZOFFSETTO:+0000
TZNAME:GMT
DTSTART:20241027T010000
END:STANDARD
BEGIN:DAYLIGHT
TZOFFSETFROM:+0000
TZOFFSETTO:+0100
TZNAME:BST
DTSTART:20250330T010000
END:DAYLIGHT
BEGIN:STANDARD
TZOFFSETFROM:+0100
TZOFFSETTO:+0000
TZNAME:GMT
DTSTART:20251026T010000
END:STANDARD
BEGIN:DAYLIGHT
TZOFFSETFROM:+0000
TZOFFSETTO:+0100
TZNAME:BST
DTSTART:20260329T010000
END:DAYLIGHT
BEGIN:STANDARD
TZOFFSETFROM:+0100
TZOFFSETTO:+0000
TZNAME:GMT
DTSTART:20261025T010000
END:STANDARD
END:VTIMEZONE
BEGIN:VEVENT
DTSTART;TZID=Europe/London:20250214T180000
DTEND;TZID=Europe/London:20250214T203000
DTSTAMP:20260421T120036
CREATED:20250212T174123Z
LAST-MODIFIED:20250212T174425Z
UID:572-1739556000-1739565000@www.gurdwarasahibwoolwich.org.uk
SUMMARY:Monthly Naam Simran - Meditate Followed by Langar
DESCRIPTION:Seva Simran Sadhsangat. \nMonthly Naam Simran – Meditate Followed by Langar @ 6pm. \n“The remembrance of God is the highest and most exalted of all acts“ \nAng 263\, Sri Guru Granth Sahib Ji.
URL:https://www.gurdwarasahibwoolwich.org.uk/gsw-event/monthly-naam-simran-meditate-followed-by-langar/
LOCATION:Gurdwara Sahib Woolwich\, 1 Calderwood Street\, London\, SE18 6QW\, United Kingdom
CATEGORIES:Gurdwara Sahib Woolwich Event
END:VEVENT
END:VCALENDAR