BEGIN:VCALENDAR
VERSION:2.0
PRODID:-//Gurdwara Sahib Woolwich - ECPv6.15.20//NONSGML v1.0//EN
CALSCALE:GREGORIAN
METHOD:PUBLISH
X-ORIGINAL-URL:https://www.gurdwarasahibwoolwich.org.uk
X-WR-CALDESC:Events for Gurdwara Sahib Woolwich
REFRESH-INTERVAL;VALUE=DURATION:PT1H
X-Robots-Tag:noindex
X-PUBLISHED-TTL:PT1H
BEGIN:VTIMEZONE
TZID:Europe/London
BEGIN:DAYLIGHT
TZOFFSETFROM:+0000
TZOFFSETTO:+0100
TZNAME:BST
DTSTART:20240331T010000
END:DAYLIGHT
BEGIN:STANDARD
TZOFFSETFROM:+0100
TZOFFSETTO:+0000
TZNAME:GMT
DTSTART:20241027T010000
END:STANDARD
BEGIN:DAYLIGHT
TZOFFSETFROM:+0000
TZOFFSETTO:+0100
TZNAME:BST
DTSTART:20250330T010000
END:DAYLIGHT
BEGIN:STANDARD
TZOFFSETFROM:+0100
TZOFFSETTO:+0000
TZNAME:GMT
DTSTART:20251026T010000
END:STANDARD
BEGIN:DAYLIGHT
TZOFFSETFROM:+0000
TZOFFSETTO:+0100
TZNAME:BST
DTSTART:20260329T010000
END:DAYLIGHT
BEGIN:STANDARD
TZOFFSETFROM:+0100
TZOFFSETTO:+0000
TZNAME:GMT
DTSTART:20261025T010000
END:STANDARD
END:VTIMEZONE
BEGIN:VEVENT
DTSTART;TZID=Europe/London:20250315T170000
DTEND;TZID=Europe/London:20250315T210000
DTSTAMP:20260421T101604
CREATED:20250305T050705Z
LAST-MODIFIED:20250305T050927Z
UID:747-1742058000-1742072400@www.gurdwarasahibwoolwich.org.uk
SUMMARY:Holla Mahala - SLSY Kirtan
DESCRIPTION:VAHEGURU JI KA KHALSA VAHEGURU JI KI FATEH 🙏🏾 \nHola Mohalla\, established by Sri Guru Gobind Singh Ji Maharaj in the beginning of the 18th century\, was introduced as a response to the challenges faced by the Sikh community. While the rest of India celebrated Holi\, Guru Ji declared that the Khalsa would observe Hola Mohalla—a time to display martial skill\, courage\, and unity. This tradition not only strengthened the Sikh spirit but also served as a reminder of their duty to protect and uplift humanity. The main celebrations take place over three days in Anandpur Sahib\, drawing Sikhs from around the world. If you can’t make it there\, join us on; \nSATURDAY 15TH MARCH 5PM TO 9PM AT GURDWARA SAHIB WOOLWICH \nfor an evening of Paath\, Kirtan\, and Seva. 🙏🏾
URL:https://www.gurdwarasahibwoolwich.org.uk/gsw-event/holla-mahala-slsy-kirtan/
LOCATION:Gurdwara Sahib Woolwich\, 1 Calderwood Street\, London\, SE18 6QW\, United Kingdom
CATEGORIES:Gurdwara Sahib Woolwich Event
END:VEVENT
END:VCALENDAR