BEGIN:VCALENDAR
VERSION:2.0
PRODID:-//Gurdwara Sahib Woolwich - ECPv6.15.20//NONSGML v1.0//EN
CALSCALE:GREGORIAN
METHOD:PUBLISH
X-ORIGINAL-URL:https://www.gurdwarasahibwoolwich.org.uk
X-WR-CALDESC:Events for Gurdwara Sahib Woolwich
REFRESH-INTERVAL;VALUE=DURATION:PT1H
X-Robots-Tag:noindex
X-PUBLISHED-TTL:PT1H
BEGIN:VTIMEZONE
TZID:Europe/London
BEGIN:DAYLIGHT
TZOFFSETFROM:+0000
TZOFFSETTO:+0100
TZNAME:BST
DTSTART:20240331T010000
END:DAYLIGHT
BEGIN:STANDARD
TZOFFSETFROM:+0100
TZOFFSETTO:+0000
TZNAME:GMT
DTSTART:20241027T010000
END:STANDARD
BEGIN:DAYLIGHT
TZOFFSETFROM:+0000
TZOFFSETTO:+0100
TZNAME:BST
DTSTART:20250330T010000
END:DAYLIGHT
BEGIN:STANDARD
TZOFFSETFROM:+0100
TZOFFSETTO:+0000
TZNAME:GMT
DTSTART:20251026T010000
END:STANDARD
BEGIN:DAYLIGHT
TZOFFSETFROM:+0000
TZOFFSETTO:+0100
TZNAME:BST
DTSTART:20260329T010000
END:DAYLIGHT
BEGIN:STANDARD
TZOFFSETFROM:+0100
TZOFFSETTO:+0000
TZNAME:GMT
DTSTART:20261025T010000
END:STANDARD
END:VTIMEZONE
BEGIN:VEVENT
DTSTART;TZID=Europe/London:20250323T130000
DTEND;TZID=Europe/London:20250323T150000
DTSTAMP:20260421T100432
CREATED:20250312T071412Z
LAST-MODIFIED:20250312T071412Z
UID:775-1742734800-1742742000@www.gurdwarasahibwoolwich.org.uk
SUMMARY:Sabr & Shukr Wellbeing Project
DESCRIPTION:Waheguru Ji Ka Khalsa \nWaheguru Ji Ki Fateh Sangat Ji! \nWe’re excited to announce a new project\, the Sabr & Shukr Wellbeing project at Gurdwara Sahib Woolwich. This aims to be an extension from the Chaa & Chat sessions which have been so successful. \nWe are striving to building a positive\, supportive and uplifting atmosphere for our community. In a time where life can be challenging\, and sometimes we may not know where to get support\, the Sabr & Shukar Wellbeing sessions will give guidance\, direction and give an opportunity to learn about our mind and how we can physically look after ourselves. We all have experienced and overcome struggles\, and by us sharing with each other\, you just never know who you may end up helping. So there will be sessions held by healthcare professionals\, leading charities\, wellbeing coaches\, yoga teachers and so much more so watch this space. \n**The first Sabr & Shukr Wellbeing session** \n🗓 Join us on March 23rd from 1 pm to 3 pm\,\nAt Gurdwara Sahib Woowlich.\nwith Pehnji Sandy Kaur from Sehhat UK charity. Pehnji has been working with the Punjabi community to change the mindset on mental health. Sehhat UK offer Punjabi mental health and Suicide prevention support. Doing a lot of research to see how we can improve our mental wellbeing in the Punjabi community and where we can get support from. \nSee you there! If you’d like to get involved please get in touch. \nAll details are on the poster.
URL:https://www.gurdwarasahibwoolwich.org.uk/gsw-event/sabr-shukr-wellbeing-project/
LOCATION:Gurdwara Sahib Woolwich\, 1 Calderwood Street\, London\, SE18 6QW\, United Kingdom
CATEGORIES:Gurdwara Sahib Woolwich Event
END:VEVENT
END:VCALENDAR