BEGIN:VCALENDAR
VERSION:2.0
PRODID:-//Gurdwara Sahib Woolwich - ECPv6.15.20//NONSGML v1.0//EN
CALSCALE:GREGORIAN
METHOD:PUBLISH
X-WR-CALNAME:Gurdwara Sahib Woolwich
X-ORIGINAL-URL:https://www.gurdwarasahibwoolwich.org.uk
X-WR-CALDESC:Events for Gurdwara Sahib Woolwich
REFRESH-INTERVAL;VALUE=DURATION:PT1H
X-Robots-Tag:noindex
X-PUBLISHED-TTL:PT1H
BEGIN:VTIMEZONE
TZID:Europe/London
BEGIN:DAYLIGHT
TZOFFSETFROM:+0000
TZOFFSETTO:+0100
TZNAME:BST
DTSTART:20240331T010000
END:DAYLIGHT
BEGIN:STANDARD
TZOFFSETFROM:+0100
TZOFFSETTO:+0000
TZNAME:GMT
DTSTART:20241027T010000
END:STANDARD
BEGIN:DAYLIGHT
TZOFFSETFROM:+0000
TZOFFSETTO:+0100
TZNAME:BST
DTSTART:20250330T010000
END:DAYLIGHT
BEGIN:STANDARD
TZOFFSETFROM:+0100
TZOFFSETTO:+0000
TZNAME:GMT
DTSTART:20251026T010000
END:STANDARD
BEGIN:DAYLIGHT
TZOFFSETFROM:+0000
TZOFFSETTO:+0100
TZNAME:BST
DTSTART:20260329T010000
END:DAYLIGHT
BEGIN:STANDARD
TZOFFSETFROM:+0100
TZOFFSETTO:+0000
TZNAME:GMT
DTSTART:20261025T010000
END:STANDARD
END:VTIMEZONE
BEGIN:VEVENT
DTSTART;TZID=Europe/London:20250427T083000
DTEND;TZID=Europe/London:20250427T094500
DTSTAMP:20260421T085805
CREATED:20250126T131030Z
LAST-MODIFIED:20250126T131030Z
UID:220-1745742600-1745747100@www.gurdwarasahibwoolwich.org.uk
SUMMARY:London Marathon - Sukhmani Sahib
DESCRIPTION:London Marathon – Sukhmani Sahib
URL:https://www.gurdwarasahibwoolwich.org.uk/gsw-event/london-marathon-sukhmani-sahib/
LOCATION:Gurdwara Sahib Woolwich\, 1 Calderwood Street\, London\, SE18 6QW\, United Kingdom
CATEGORIES:Gurdwara Sahib Woolwich Event
END:VEVENT
BEGIN:VEVENT
DTSTART;TZID=Europe/London:20250427T100000
DTEND;TZID=Europe/London:20250427T113000
DTSTAMP:20260421T085805
CREATED:20250126T131030Z
LAST-MODIFIED:20250126T131030Z
UID:221-1745748000-1745753400@www.gurdwarasahibwoolwich.org.uk
SUMMARY:London Marathon - Kirtan Diwan
DESCRIPTION:London Marathon – Kirtan Diwan
URL:https://www.gurdwarasahibwoolwich.org.uk/gsw-event/london-marathon-kirtan-diwan/
LOCATION:Gurdwara Sahib Woolwich\, 1 Calderwood Street\, London\, SE18 6QW\, United Kingdom
CATEGORIES:Gurdwara Sahib Woolwich Event
END:VEVENT
BEGIN:VEVENT
DTSTART;TZID=Europe/London:20250427T113000
DTEND;TZID=Europe/London:20250427T120000
DTSTAMP:20260421T085805
CREATED:20250126T131030Z
LAST-MODIFIED:20250126T131030Z
UID:222-1745753400-1745755200@www.gurdwarasahibwoolwich.org.uk
SUMMARY:London Marathon - Sangat Kirtan
DESCRIPTION:London Marathon – Sangat Kirtan
URL:https://www.gurdwarasahibwoolwich.org.uk/gsw-event/london-marathon-sangat-kirtan/
LOCATION:Gurdwara Sahib Woolwich\, 1 Calderwood Street\, London\, SE18 6QW\, United Kingdom
CATEGORIES:Gurdwara Sahib Woolwich Event
END:VEVENT
END:VCALENDAR