BEGIN:VCALENDAR
VERSION:2.0
PRODID:-//Gurdwara Sahib Woolwich - ECPv6.15.20//NONSGML v1.0//EN
CALSCALE:GREGORIAN
METHOD:PUBLISH
X-WR-CALNAME:Gurdwara Sahib Woolwich
X-ORIGINAL-URL:https://www.gurdwarasahibwoolwich.org.uk
X-WR-CALDESC:Events for Gurdwara Sahib Woolwich
REFRESH-INTERVAL;VALUE=DURATION:PT1H
X-Robots-Tag:noindex
X-PUBLISHED-TTL:PT1H
BEGIN:VTIMEZONE
TZID:Europe/London
BEGIN:DAYLIGHT
TZOFFSETFROM:+0000
TZOFFSETTO:+0100
TZNAME:BST
DTSTART:20240331T010000
END:DAYLIGHT
BEGIN:STANDARD
TZOFFSETFROM:+0100
TZOFFSETTO:+0000
TZNAME:GMT
DTSTART:20241027T010000
END:STANDARD
BEGIN:DAYLIGHT
TZOFFSETFROM:+0000
TZOFFSETTO:+0100
TZNAME:BST
DTSTART:20250330T010000
END:DAYLIGHT
BEGIN:STANDARD
TZOFFSETFROM:+0100
TZOFFSETTO:+0000
TZNAME:GMT
DTSTART:20251026T010000
END:STANDARD
BEGIN:DAYLIGHT
TZOFFSETFROM:+0000
TZOFFSETTO:+0100
TZNAME:BST
DTSTART:20260329T010000
END:DAYLIGHT
BEGIN:STANDARD
TZOFFSETFROM:+0100
TZOFFSETTO:+0000
TZNAME:GMT
DTSTART:20261025T010000
END:STANDARD
END:VTIMEZONE
BEGIN:VEVENT
DTSTART;TZID=Europe/London:20250413T093000
DTEND;TZID=Europe/London:20250413T100000
DTSTAMP:20260421T173405
CREATED:20250126T131014Z
LAST-MODIFIED:20250126T143958Z
UID:217-1744536600-1744538400@www.gurdwarasahibwoolwich.org.uk
SUMMARY:Vaisakhi & Sangrand - Akhand Path and Sehaj Path Bhog
DESCRIPTION:Vaisakhi & Sangran – Akhand Path and Sehaj Path Bhog
URL:https://www.gurdwarasahibwoolwich.org.uk/gsw-event/vaisakhi-sangrand-akhand-path-and-sehaj-path-bhog/
LOCATION:Gurdwara Sahib Woolwich\, 1 Calderwood Street\, London\, SE18 6QW\, United Kingdom
CATEGORIES:Gurdwara Sahib Woolwich Event
END:VEVENT
BEGIN:VEVENT
DTSTART;TZID=Europe/London:20250413T100000
DTEND;TZID=Europe/London:20250413T120000
DTSTAMP:20260421T173405
CREATED:20250126T131014Z
LAST-MODIFIED:20250126T143947Z
UID:218-1744538400-1744545600@www.gurdwarasahibwoolwich.org.uk
SUMMARY:Vaisakhi & Sangrand - Kirtan Diwan
DESCRIPTION:Vaisakhi & Sangran – Kirtan Diwan
URL:https://www.gurdwarasahibwoolwich.org.uk/gsw-event/vaisakhi-sangrand-kirtan-diwan/
LOCATION:Gurdwara Sahib Woolwich\, 1 Calderwood Street\, London\, SE18 6QW\, United Kingdom
CATEGORIES:Gurdwara Sahib Woolwich Event
END:VEVENT
BEGIN:VEVENT
DTSTART;TZID=Europe/London:20250420T130000
DTEND;TZID=Europe/London:20250420T180000
DTSTAMP:20260421T173405
CREATED:20250126T131014Z
LAST-MODIFIED:20250417T062450Z
UID:219-1745154000-1745172000@www.gurdwarasahibwoolwich.org.uk
SUMMARY:Nagar Kirtan - For Woolwich Sikhs and Community
DESCRIPTION:Gurdwara Sahib Woolwich is proud to announce its Nagar Kirtan on Sunday\, 20th April 2025\, starting at 1pm from the Gurdwara. \nNagar Kirtan (Sanskrit: नगर कीर्तन; IAST: nāgara-kīrtana)\, or nagar sankirtan\, is a tradition in the Indian religions involving the processional singing of holy hymns by a group in a residential area. \n  \nNagar Kirtan Gurdwara Sahib Woolwich\, 20th April 2025 @ 1pm
URL:https://www.gurdwarasahibwoolwich.org.uk/gsw-event/nagar-kirtan-2025/
LOCATION:Gurdwara Sahib Woolwich\, 1 Calderwood Street\, London\, SE18 6QW\, United Kingdom
CATEGORIES:Gurdwara Sahib Woolwich Event
ATTACH;FMTTYPE=image/jpeg:https://www.gurdwarasahibwoolwich.org.uk/wp-content/uploads/2025/04/Nagar-Kirtan-202504.jpg
END:VEVENT
BEGIN:VEVENT
DTSTART;TZID=Europe/London:20250422T183000
DTEND;TZID=Europe/London:20250422T200000
DTSTAMP:20260421T173405
CREATED:20250421T115615Z
LAST-MODIFIED:20250421T122204Z
UID:950-1745346600-1745352000@www.gurdwarasahibwoolwich.org.uk
SUMMARY:Muay Thai at Gurdwara Sahib Woolwich Every Tuesday
DESCRIPTION:Thai Boxing (Muay Thai) at Gurdwara Sahib Woolwich. \n“Always be ready and adapt for what could be.” \nTuesdays at 6:30pm. Ages 13+ and Adults. \nGurdwara Sahib Woolwich Gym (Basement).\nGurdwara Sahib Woolwich\,\n1 Caldwerwood Street\,\nLondon SE18 6QW \n📱07958 761 518 Ravinder Singh \n\n\n\n\n\n   \n\n\n\n\n\n\n\n\n\n\nView this post on Instagram\n\n\n\n\n\n\n\n\n\n\n\n\n\n\n\n\n\n\n\n\n\n\n \nA post shared by AMA (@akaalmartialarts)
URL:https://www.gurdwarasahibwoolwich.org.uk/gsw-event/muay-thai-at-gurdwara-sahib-woolwich/
LOCATION:Gurdwara Sahib Woolwich\, 1 Calderwood Street\, London\, SE18 6QW\, United Kingdom
CATEGORIES:Gurdwara Sahib Woolwich Event
ATTACH;FMTTYPE=image/jpeg:https://www.gurdwarasahibwoolwich.org.uk/wp-content/uploads/2025/04/Muay-Thai-Woolwich-Gurdwara-Sahib.jpg
END:VEVENT
BEGIN:VEVENT
DTSTART;TZID=Europe/London:20250426T180000
DTEND;TZID=Europe/London:20250426T203000
DTSTAMP:20260421T173405
CREATED:20250417T062159Z
LAST-MODIFIED:20250417T062538Z
UID:916-1745690400-1745699400@www.gurdwarasahibwoolwich.org.uk
SUMMARY:Monthly Barah Maha Katha - April 2025
DESCRIPTION:We are in the month of Vaisakh\, which is a period of deep personal devotion. It symbolises renewal\, hope\, and growth. Together let’s explore the deeper meaning of this month. Experience the wisdom of Katha and the uplifting power of Gurbani Kirtan. \n📍 Gurdwara Sahib Woolwich (Calderwood Street)\n🗓 Sat 26th April\n⏰ 6- 8.30 pm: Divan will start at 6 pm with Rehras sahib followed by Aarti\, Kirtan\, Katha\, Hukamnama Sahib\, and Samapti \n💡 Don’t miss the opportunity to learn\, connect\, and progress in your spiritual journey. \nChips & beans will be served for langar
URL:https://www.gurdwarasahibwoolwich.org.uk/gsw-event/monthly-barah-maha-katha-april-2025/
LOCATION:Gurdwara Sahib Woolwich\, 1 Calderwood Street\, London\, SE18 6QW\, United Kingdom
CATEGORIES:Gurdwara Sahib Woolwich Event
ATTACH;FMTTYPE=image/jpeg:https://www.gurdwarasahibwoolwich.org.uk/wp-content/uploads/2025/04/Monthly-Barah-Maha-Katha-202504.jpg
END:VEVENT
BEGIN:VEVENT
DTSTART;TZID=Europe/London:20250427T083000
DTEND;TZID=Europe/London:20250427T094500
DTSTAMP:20260421T173405
CREATED:20250126T131030Z
LAST-MODIFIED:20250126T131030Z
UID:220-1745742600-1745747100@www.gurdwarasahibwoolwich.org.uk
SUMMARY:London Marathon - Sukhmani Sahib
DESCRIPTION:London Marathon – Sukhmani Sahib
URL:https://www.gurdwarasahibwoolwich.org.uk/gsw-event/london-marathon-sukhmani-sahib/
LOCATION:Gurdwara Sahib Woolwich\, 1 Calderwood Street\, London\, SE18 6QW\, United Kingdom
CATEGORIES:Gurdwara Sahib Woolwich Event
END:VEVENT
BEGIN:VEVENT
DTSTART;TZID=Europe/London:20250427T100000
DTEND;TZID=Europe/London:20250427T113000
DTSTAMP:20260421T173405
CREATED:20250126T131030Z
LAST-MODIFIED:20250126T131030Z
UID:221-1745748000-1745753400@www.gurdwarasahibwoolwich.org.uk
SUMMARY:London Marathon - Kirtan Diwan
DESCRIPTION:London Marathon – Kirtan Diwan
URL:https://www.gurdwarasahibwoolwich.org.uk/gsw-event/london-marathon-kirtan-diwan/
LOCATION:Gurdwara Sahib Woolwich\, 1 Calderwood Street\, London\, SE18 6QW\, United Kingdom
CATEGORIES:Gurdwara Sahib Woolwich Event
END:VEVENT
BEGIN:VEVENT
DTSTART;TZID=Europe/London:20250427T113000
DTEND;TZID=Europe/London:20250427T120000
DTSTAMP:20260421T173405
CREATED:20250126T131030Z
LAST-MODIFIED:20250126T131030Z
UID:222-1745753400-1745755200@www.gurdwarasahibwoolwich.org.uk
SUMMARY:London Marathon - Sangat Kirtan
DESCRIPTION:London Marathon – Sangat Kirtan
URL:https://www.gurdwarasahibwoolwich.org.uk/gsw-event/london-marathon-sangat-kirtan/
LOCATION:Gurdwara Sahib Woolwich\, 1 Calderwood Street\, London\, SE18 6QW\, United Kingdom
CATEGORIES:Gurdwara Sahib Woolwich Event
END:VEVENT
BEGIN:VEVENT
DTSTART;TZID=Europe/London:20250429T183000
DTEND;TZID=Europe/London:20250429T200000
DTSTAMP:20260421T173405
CREATED:20250421T123239Z
LAST-MODIFIED:20250421T123239Z
UID:980-1745951400-1745956800@www.gurdwarasahibwoolwich.org.uk
SUMMARY:Muay Thai at Gurdwara Sahib Woolwich Every Tuesday
DESCRIPTION:Muay Thai at Gurdwara Sahib Woolwich Every Tuesday
URL:https://www.gurdwarasahibwoolwich.org.uk/gsw-event/muay-thai-at-gurdwara-sahib-woolwich-every-tuesday/
LOCATION:Gurdwara Sahib Woolwich\, 1 Calderwood Street\, London\, SE18 6QW\, United Kingdom
CATEGORIES:Gurdwara Sahib Woolwich Event
END:VEVENT
BEGIN:VEVENT
DTSTART;TZID=Europe/London:20250506T183000
DTEND;TZID=Europe/London:20250506T200000
DTSTAMP:20260421T173405
CREATED:20250421T123239Z
LAST-MODIFIED:20250421T123239Z
UID:981-1746556200-1746561600@www.gurdwarasahibwoolwich.org.uk
SUMMARY:Muay Thai at Gurdwara Sahib Woolwich Every Tuesday
DESCRIPTION:Muay Thai at Gurdwara Sahib Woolwich Every Tuesday
URL:https://www.gurdwarasahibwoolwich.org.uk/gsw-event/muay-thai-at-gurdwara-sahib-woolwich-every-tuesday-2/
LOCATION:Gurdwara Sahib Woolwich\, 1 Calderwood Street\, London\, SE18 6QW\, United Kingdom
CATEGORIES:Gurdwara Sahib Woolwich Event
END:VEVENT
BEGIN:VEVENT
DTSTART;TZID=Europe/London:20250509T183000
DTEND;TZID=Europe/London:20250509T203000
DTSTAMP:20260421T173405
CREATED:20250409T165717Z
LAST-MODIFIED:20250409T191151Z
UID:872-1746815400-1746822600@www.gurdwarasahibwoolwich.org.uk
SUMMARY:SLSY Monthly Simran(Meditation) - Every Second Friday in the Month
DESCRIPTION:SLSY Monthly Simran(Meditation)\nWith Guru Granth Sahib Ji’s blessings.\nEvery second Friday of the month At Gurdwara Sahib Woolwich\, 6pm -8:30pm. \nhttps://www.gurdwarasahibwoolwich.org.uk/wp-content/uploads/2025/04/GSW-Every-Second-Friday-Simran.mp4
URL:https://www.gurdwarasahibwoolwich.org.uk/gsw-event/slsy-monthly-simranmeditation-every-second-friday-in-the-month-2/
LOCATION:Gurdwara Sahib Woolwich\, 1 Calderwood Street\, London\, SE18 6QW\, United Kingdom
CATEGORIES:Gurdwara Sahib Woolwich Event
ATTACH;FMTTYPE=image/png:https://www.gurdwarasahibwoolwich.org.uk/wp-content/uploads/2025/04/GSW-Second-Friday-Simran.png
END:VEVENT
BEGIN:VEVENT
DTSTART;TZID=Europe/London:20250513T183000
DTEND;TZID=Europe/London:20250513T200000
DTSTAMP:20260421T173405
CREATED:20250421T123240Z
LAST-MODIFIED:20250421T123240Z
UID:982-1747161000-1747166400@www.gurdwarasahibwoolwich.org.uk
SUMMARY:Muay Thai at Gurdwara Sahib Woolwich Every Tuesday
DESCRIPTION:Muay Thai at Gurdwara Sahib Woolwich Every Tuesday
URL:https://www.gurdwarasahibwoolwich.org.uk/gsw-event/muay-thai-at-gurdwara-sahib-woolwich-every-tuesday-3/
LOCATION:Gurdwara Sahib Woolwich\, 1 Calderwood Street\, London\, SE18 6QW\, United Kingdom
CATEGORIES:Gurdwara Sahib Woolwich Event
END:VEVENT
BEGIN:VEVENT
DTSTART;TZID=Europe/London:20250514T090000
DTEND;TZID=Europe/London:20250514T093000
DTSTAMP:20260421T173405
CREATED:20250126T131030Z
LAST-MODIFIED:20250126T131030Z
UID:223-1747213200-1747215000@www.gurdwarasahibwoolwich.org.uk
SUMMARY:Sangrand - Sehaj Path
DESCRIPTION:Sangrand – Sehaj Path
URL:https://www.gurdwarasahibwoolwich.org.uk/gsw-event/sangrand-sehaj-path-4/
LOCATION:Gurdwara Sahib Woolwich\, 1 Calderwood Street\, London\, SE18 6QW\, United Kingdom
CATEGORIES:Gurdwara Sahib Woolwich Event
END:VEVENT
BEGIN:VEVENT
DTSTART;TZID=Europe/London:20250514T100000
DTEND;TZID=Europe/London:20250514T120000
DTSTAMP:20260421T173405
CREATED:20250126T131030Z
LAST-MODIFIED:20250126T131030Z
UID:224-1747216800-1747224000@www.gurdwarasahibwoolwich.org.uk
SUMMARY:Sangrand - Kirtan Diwan
DESCRIPTION:Sangrand – Kirtan Diwan
URL:https://www.gurdwarasahibwoolwich.org.uk/gsw-event/sangrand-kirtan-diwan-4/
LOCATION:Gurdwara Sahib Woolwich\, 1 Calderwood Street\, London\, SE18 6QW\, United Kingdom
CATEGORIES:Gurdwara Sahib Woolwich Event
END:VEVENT
BEGIN:VEVENT
DTSTART;TZID=Europe/London:20250520T183000
DTEND;TZID=Europe/London:20250520T200000
DTSTAMP:20260421T173405
CREATED:20250421T123240Z
LAST-MODIFIED:20250421T123240Z
UID:983-1747765800-1747771200@www.gurdwarasahibwoolwich.org.uk
SUMMARY:Muay Thai at Gurdwara Sahib Woolwich Every Tuesday
DESCRIPTION:Muay Thai at Gurdwara Sahib Woolwich Every Tuesday
URL:https://www.gurdwarasahibwoolwich.org.uk/gsw-event/muay-thai-at-gurdwara-sahib-woolwich-every-tuesday-4/
LOCATION:Gurdwara Sahib Woolwich\, 1 Calderwood Street\, London\, SE18 6QW\, United Kingdom
CATEGORIES:Gurdwara Sahib Woolwich Event
END:VEVENT
BEGIN:VEVENT
DTSTART;TZID=Europe/London:20250524T180000
DTEND;TZID=Europe/London:20250524T203000
DTSTAMP:20260421T173405
CREATED:20250517T073059Z
LAST-MODIFIED:20250517T073100Z
UID:1193-1748109600-1748118600@www.gurdwarasahibwoolwich.org.uk
SUMMARY:📣 Monthly Katha & Kirtan 📣
DESCRIPTION:We are all trying to find clarity in this chaotic life. In Jeth\, Guru Arjan Dev Ji encourage us to navigate life by awakening the desire to connect with Vaheguru\, highlighting the significance of recognizing our roots. Together\, let’s experience the wisdom of katha and the uplifting power of Gurbani Kirtan. \n📍 Gurdwara Sahib Woolwich (Calderwood Street)\n🗓 May 24th\n⏰ 6-8:30 pm: Divan will start at 6 pm with Rehras Sahib followed by Aarti\, Kirtan\, Katha\, Hukamnama Sahib\, and Samapti \n💡 Don’t miss the opportunity to learn\, connect\, and progress in your spiritual journey. \nChips & beans will be served for langar 😋
URL:https://www.gurdwarasahibwoolwich.org.uk/gsw-event/%f0%9f%93%a3-monthly-katha-kirtan-%f0%9f%93%a3/
LOCATION:Gurdwara Sahib Woolwich\, 1 Calderwood Street\, London\, SE18 6QW\, United Kingdom
CATEGORIES:Gurdwara Sahib Woolwich Event
ATTACH;FMTTYPE=image/jpeg:https://www.gurdwarasahibwoolwich.org.uk/wp-content/uploads/2025/05/202505-Monthly-Katha-And-Kirtan.jpg
END:VEVENT
BEGIN:VEVENT
DTSTART;TZID=Europe/London:20250525T083000
DTEND;TZID=Europe/London:20250525T094500
DTSTAMP:20260421T173405
CREATED:20250126T131045Z
LAST-MODIFIED:20250126T131045Z
UID:225-1748161800-1748166300@www.gurdwarasahibwoolwich.org.uk
SUMMARY:Sukhmani Sahib
DESCRIPTION:Sukhmani Sahib
URL:https://www.gurdwarasahibwoolwich.org.uk/gsw-event/sukhmani-sahib-2/
LOCATION:Gurdwara Sahib Woolwich\, 1 Calderwood Street\, London\, SE18 6QW\, United Kingdom
CATEGORIES:Gurdwara Sahib Woolwich Event
END:VEVENT
BEGIN:VEVENT
DTSTART;TZID=Europe/London:20250525T090000
DTEND;TZID=Europe/London:20250525T093000
DTSTAMP:20260421T173405
CREATED:20250126T131100Z
LAST-MODIFIED:20250126T131100Z
UID:231-1748163600-1748165400@www.gurdwarasahibwoolwich.org.uk
SUMMARY:Sangrand AGM - Sehaj Path Bhog
DESCRIPTION:Sangrand AGM – Sehaj Path Bhog
URL:https://www.gurdwarasahibwoolwich.org.uk/gsw-event/sangrand-agm-sehaj-path-bhog/
LOCATION:Gurdwara Sahib Woolwich\, 1 Calderwood Street\, London\, SE18 6QW\, United Kingdom
CATEGORIES:Gurdwara Sahib Woolwich Event
END:VEVENT
BEGIN:VEVENT
DTSTART;TZID=Europe/London:20250525T100000
DTEND;TZID=Europe/London:20250525T113000
DTSTAMP:20260421T173405
CREATED:20250126T131045Z
LAST-MODIFIED:20250126T131045Z
UID:226-1748167200-1748172600@www.gurdwarasahibwoolwich.org.uk
SUMMARY:Kirtan Diwan
DESCRIPTION:Kirtan Diwan
URL:https://www.gurdwarasahibwoolwich.org.uk/gsw-event/kirtan-diwan/
LOCATION:Gurdwara Sahib Woolwich\, 1 Calderwood Street\, London\, SE18 6QW\, United Kingdom
CATEGORIES:Gurdwara Sahib Woolwich Event
END:VEVENT
BEGIN:VEVENT
DTSTART;TZID=Europe/London:20250525T100000
DTEND;TZID=Europe/London:20250525T113000
DTSTAMP:20260421T173405
CREATED:20250126T131100Z
LAST-MODIFIED:20250126T131100Z
UID:232-1748167200-1748172600@www.gurdwarasahibwoolwich.org.uk
SUMMARY:Sangrand AGM - Kirtan Diwan
DESCRIPTION:Sangrand AGM – Kirtan Diwan
URL:https://www.gurdwarasahibwoolwich.org.uk/gsw-event/sangrand-agm-kirtan-diwan/
LOCATION:Gurdwara Sahib Woolwich\, 1 Calderwood Street\, London\, SE18 6QW\, United Kingdom
CATEGORIES:Gurdwara Sahib Woolwich Event
END:VEVENT
BEGIN:VEVENT
DTSTART;TZID=Europe/London:20250525T113000
DTEND;TZID=Europe/London:20250525T120000
DTSTAMP:20260421T173405
CREATED:20250126T131045Z
LAST-MODIFIED:20250126T131045Z
UID:227-1748172600-1748174400@www.gurdwarasahibwoolwich.org.uk
SUMMARY:Sangat Kirtan
DESCRIPTION:Sangat Kirtan
URL:https://www.gurdwarasahibwoolwich.org.uk/gsw-event/sangat-kirtan/
LOCATION:Gurdwara Sahib Woolwich\, 1 Calderwood Street\, London\, SE18 6QW\, United Kingdom
CATEGORIES:Gurdwara Sahib Woolwich Event
END:VEVENT
BEGIN:VEVENT
DTSTART;TZID=Europe/London:20250525T113000
DTEND;TZID=Europe/London:20250525T120000
DTSTAMP:20260421T173405
CREATED:20250126T131100Z
LAST-MODIFIED:20250126T131100Z
UID:233-1748172600-1748174400@www.gurdwarasahibwoolwich.org.uk
SUMMARY:Sangrand AGM - Sangat Kirtan
DESCRIPTION:Sangrand AGM – Sangat Kirtan
URL:https://www.gurdwarasahibwoolwich.org.uk/gsw-event/sangrand-agm-sangat-kirtan/
LOCATION:Gurdwara Sahib Woolwich\, 1 Calderwood Street\, London\, SE18 6QW\, United Kingdom
CATEGORIES:Gurdwara Sahib Woolwich Event
END:VEVENT
BEGIN:VEVENT
DTSTART;TZID=Europe/London:20250525T140000
DTEND;TZID=Europe/London:20250525T150000
DTSTAMP:20260421T173405
CREATED:20250126T131100Z
LAST-MODIFIED:20250126T131100Z
UID:234-1748181600-1748185200@www.gurdwarasahibwoolwich.org.uk
SUMMARY:Sangrand AGM - AGM
DESCRIPTION:Sangrand AGM – AGM
URL:https://www.gurdwarasahibwoolwich.org.uk/gsw-event/sangrand-agm-agm/
LOCATION:Gurdwara Sahib Woolwich\, 1 Calderwood Street\, London\, SE18 6QW\, United Kingdom
CATEGORIES:Gurdwara Sahib Woolwich Event
END:VEVENT
BEGIN:VEVENT
DTSTART;TZID=Europe/London:20250527T183000
DTEND;TZID=Europe/London:20250527T200000
DTSTAMP:20260421T173405
CREATED:20250421T123240Z
LAST-MODIFIED:20250421T123240Z
UID:984-1748370600-1748376000@www.gurdwarasahibwoolwich.org.uk
SUMMARY:Muay Thai at Gurdwara Sahib Woolwich Every Tuesday
DESCRIPTION:Muay Thai at Gurdwara Sahib Woolwich Every Tuesday
URL:https://www.gurdwarasahibwoolwich.org.uk/gsw-event/muay-thai-at-gurdwara-sahib-woolwich-every-tuesday-5/
LOCATION:Gurdwara Sahib Woolwich\, 1 Calderwood Street\, London\, SE18 6QW\, United Kingdom
CATEGORIES:Gurdwara Sahib Woolwich Event
END:VEVENT
BEGIN:VEVENT
DTSTART;TZID=Europe/London:20250530T100000
DTEND;TZID=Europe/London:20250530T120000
DTSTAMP:20260421T173405
CREATED:20250126T131045Z
LAST-MODIFIED:20250126T131045Z
UID:228-1748599200-1748606400@www.gurdwarasahibwoolwich.org.uk
SUMMARY:Guru Arjun Dev Shaheedi Purb - Kirtan Diwan
DESCRIPTION:Guru Arjun Dev Shaheedi Purb – Kirtan Diwan
URL:https://www.gurdwarasahibwoolwich.org.uk/gsw-event/guru-arjun-dev-shaheedi-purb-kirtan-diwan/
LOCATION:Gurdwara Sahib Woolwich\, 1 Calderwood Street\, London\, SE18 6QW\, United Kingdom
CATEGORIES:Gurdwara Sahib Woolwich Event
END:VEVENT
BEGIN:VEVENT
DTSTART;TZID=Europe/London:20250601T093000
DTEND;TZID=Europe/London:20250601T100000
DTSTAMP:20260421T173405
CREATED:20250126T131045Z
LAST-MODIFIED:20250528T074916Z
UID:229-1748770200-1748772000@www.gurdwarasahibwoolwich.org.uk
SUMMARY:Guru Arjun Dev Shaheedi Purb - Sehaj Path Bhog
DESCRIPTION:Guru Arjun Dev Shaheedi Purb – Sehaj Path Bhog
URL:https://www.gurdwarasahibwoolwich.org.uk/gsw-event/guru-arjun-dev-shaheedi-purb-sehaj-path-bhog/
LOCATION:Gurdwara Sahib Woolwich\, 1 Calderwood Street\, London\, SE18 6QW\, United Kingdom
CATEGORIES:Gurdwara Sahib Woolwich Event
ATTACH;FMTTYPE=image/jpeg:https://www.gurdwarasahibwoolwich.org.uk/wp-content/uploads/2025/05/Sri-Sehaj-Path-20250601.jpg
END:VEVENT
BEGIN:VEVENT
DTSTART;TZID=Europe/London:20250601T100000
DTEND;TZID=Europe/London:20250601T120000
DTSTAMP:20260421T173405
CREATED:20250126T131100Z
LAST-MODIFIED:20250528T075021Z
UID:230-1748772000-1748779200@www.gurdwarasahibwoolwich.org.uk
SUMMARY:Guru Arjun Dev Shaheedi Purb - Kirtan Diwan
DESCRIPTION:Guru Arjun Dev Shaheedi Purb – Kirtan Diwan
URL:https://www.gurdwarasahibwoolwich.org.uk/gsw-event/guru-arjun-dev-shaheedi-purb-kirtan-diwan-2/
LOCATION:Gurdwara Sahib Woolwich\, 1 Calderwood Street\, London\, SE18 6QW\, United Kingdom
CATEGORIES:Gurdwara Sahib Woolwich Event
ATTACH;FMTTYPE=image/jpeg:https://www.gurdwarasahibwoolwich.org.uk/wp-content/uploads/2025/05/Sri-Sehaj-Path-20250601.jpg
END:VEVENT
BEGIN:VEVENT
DTSTART;TZID=Europe/London:20250601T110000
DTEND;TZID=Europe/London:20250601T170000
DTSTAMP:20260421T173405
CREATED:20250520T121228Z
LAST-MODIFIED:20250520T121413Z
UID:1210-1748775600-1748797200@www.gurdwarasahibwoolwich.org.uk
SUMMARY:1984 Remembrance – 41st Anniversary – Sunday 6th June 2025
DESCRIPTION:Gather: Wellington Arch\, London W1J 4JZ @ 11am \nRally: Trafalgar Square\, London SW1Y 5BS @ 2pm \nPlease contact your local Gurdwara for Transport Arrangements.
URL:https://www.gurdwarasahibwoolwich.org.uk/gsw-event/1984-remembrance-41st-anniversary-sunday-6th-june-2025/
LOCATION:Wellington Arch\, London\, Wellington Arch\, London\, W1J 7JZ\, United Kingdom
CATEGORIES:Gurdwara Sahib Woolwich Event
ATTACH;FMTTYPE=image/jpeg:https://www.gurdwarasahibwoolwich.org.uk/wp-content/uploads/2025/05/1984-Remembrance-20250601.jpg
END:VEVENT
BEGIN:VEVENT
DTSTART;TZID=Europe/London:20250603T183000
DTEND;TZID=Europe/London:20250603T200000
DTSTAMP:20260421T173405
CREATED:20250421T123242Z
LAST-MODIFIED:20250421T123242Z
UID:985-1748975400-1748980800@www.gurdwarasahibwoolwich.org.uk
SUMMARY:Muay Thai at Gurdwara Sahib Woolwich Every Tuesday
DESCRIPTION:Muay Thai at Gurdwara Sahib Woolwich Every Tuesday
URL:https://www.gurdwarasahibwoolwich.org.uk/gsw-event/muay-thai-at-gurdwara-sahib-woolwich-every-tuesday-6/
LOCATION:Gurdwara Sahib Woolwich\, 1 Calderwood Street\, London\, SE18 6QW\, United Kingdom
CATEGORIES:Gurdwara Sahib Woolwich Event
END:VEVENT
BEGIN:VEVENT
DTSTART;TZID=Europe/London:20250610T183000
DTEND;TZID=Europe/London:20250610T200000
DTSTAMP:20260421T173405
CREATED:20250421T123242Z
LAST-MODIFIED:20250421T123242Z
UID:986-1749580200-1749585600@www.gurdwarasahibwoolwich.org.uk
SUMMARY:Muay Thai at Gurdwara Sahib Woolwich Every Tuesday
DESCRIPTION:Muay Thai at Gurdwara Sahib Woolwich Every Tuesday
URL:https://www.gurdwarasahibwoolwich.org.uk/gsw-event/muay-thai-at-gurdwara-sahib-woolwich-every-tuesday-7/
LOCATION:Gurdwara Sahib Woolwich\, 1 Calderwood Street\, London\, SE18 6QW\, United Kingdom
CATEGORIES:Gurdwara Sahib Woolwich Event
END:VEVENT
END:VCALENDAR